BEGIN:VCALENDAR
VERSION:2.0
PRODID:-//Japa Meditation Ireland - ECPv4.4.0.1//NONSGML v1.0//EN
CALSCALE:GREGORIAN
METHOD:PUBLISH
X-WR-CALNAME:Japa Meditation Ireland
X-ORIGINAL-URL:http://japameditationireland.ie
X-WR-CALDESC:Events for Japa Meditation Ireland
BEGIN:VEVENT
DTSTART;TZID=UTC+0:20171106T155806
DTEND;TZID=UTC+0:20171106T155806
DTSTAMP:20171106T155806
CREATED:20161121T185543Z
LAST-MODIFIED:20170123T175329Z
UID:2415-1509983886-1509983886@japameditationireland.ie
SUMMARY:Events calendar
DESCRIPTION:[tribe_events view="list"]\n\n 
URL:http://japameditationireland.ie/centres-events/events-calendar/
END:VEVENT
END:VCALENDAR